Package: Path2PPI Version: 1.39.0 Command: chmod a+r Path2PPI -R && F:\biocbuild\bbs-3.22-bioc\R\bin\R.exe CMD build --keep-empty-dirs --no-resave-data Path2PPI StartedAt: 2025-08-14 22:11:52 -0400 (Thu, 14 Aug 2025) EndedAt: 2025-08-14 22:12:30 -0400 (Thu, 14 Aug 2025) EllapsedTime: 37.3 seconds RetCode: 0 Status: OK PackageFile: Path2PPI_1.39.0.tar.gz PackageFileSize: 1.239 MiB