Package: Path2PPI Version: 1.41.0 Command: /home/biocbuild/bbs-3.23-bioc/R/bin/R CMD INSTALL Path2PPI StartedAt: 2025-11-02 15:13:02 -0500 (Sun, 02 Nov 2025) EndedAt: 2025-11-02 15:13:32 -0500 (Sun, 02 Nov 2025) EllapsedTime: 29.5 seconds RetCode: 0 Status: OK