Package: PanomiR Version: 1.15.0 Command: /home/biocbuild/bbs-3.23-bioc/R/bin/R CMD INSTALL PanomiR StartedAt: 2025-11-21 15:48:02 -0500 (Fri, 21 Nov 2025) EndedAt: 2025-11-21 15:48:05 -0500 (Fri, 21 Nov 2025) EllapsedTime: 3.2 seconds RetCode: 0 Status: OK