Package: PanomiR Version: 1.15.0 Command: /home/biocbuild/bbs-3.23-bioc/R/bin/R CMD build --keep-empty-dirs --no-resave-data PanomiR StartedAt: 2025-11-21 19:13:54 -0500 (Fri, 21 Nov 2025) EndedAt: 2025-11-21 19:14:25 -0500 (Fri, 21 Nov 2025) EllapsedTime: 31.1 seconds RetCode: 0 Status: OK PackageFile: PanomiR_1.15.0.tar.gz PackageFileSize: 1.98 MiB