Package: PanomiR Version: 1.15.0 Command: /Library/Frameworks/R.framework/Resources/bin/R CMD INSTALL PanomiR StartedAt: 2025-11-21 15:46:50 -0500 (Fri, 21 Nov 2025) EndedAt: 2025-11-21 15:46:56 -0500 (Fri, 21 Nov 2025) EllapsedTime: 6.4 seconds RetCode: 0 Status: OK