Package: PanomiR Version: 1.15.0 Command: /Library/Frameworks/R.framework/Resources/bin/R CMD build --keep-empty-dirs --no-resave-data PanomiR StartedAt: 2025-11-23 18:11:15 -0500 (Sun, 23 Nov 2025) EndedAt: 2025-11-23 18:12:54 -0500 (Sun, 23 Nov 2025) EllapsedTime: 98.6 seconds RetCode: 0 Status: OK PackageFile: PanomiR_1.15.0.tar.gz PackageFileSize: 1.98 MiB