Package: PanomiR Version: 1.15.0 Command: rm -rf PanomiR.buildbin-libdir && mkdir PanomiR.buildbin-libdir && /Users/biocbuild/BBS/utils/build-universal.sh PanomiR_1.15.0.tar.gz /Library/Frameworks/R.framework/Resources/bin/R PanomiR.buildbin-libdir StartedAt: 2025-11-24 01:50:27 -0500 (Mon, 24 Nov 2025) EndedAt: 2025-11-24 01:50:33 -0500 (Mon, 24 Nov 2025) EllapsedTime: 6.9 seconds RetCode: 0 Status: OK PackageFile: PanomiR_1.15.0.tgz PackageFileSize: 2.066 MiB