Package: PanomiR Version: 1.15.0 Command: /Library/Frameworks/R.framework/Resources/bin/R CMD INSTALL PanomiR StartedAt: 2025-11-20 15:24:30 -0500 (Thu, 20 Nov 2025) EndedAt: 2025-11-20 15:24:32 -0500 (Thu, 20 Nov 2025) EllapsedTime: 2.2 seconds RetCode: 0 Status: OK