Package: PanomiR Version: 1.15.0 Command: /Library/Frameworks/R.framework/Resources/bin/R CMD build --keep-empty-dirs --no-resave-data PanomiR StartedAt: 2025-11-20 17:15:26 -0500 (Thu, 20 Nov 2025) EndedAt: 2025-11-20 17:15:40 -0500 (Thu, 20 Nov 2025) EllapsedTime: 14.2 seconds RetCode: 0 Status: OK PackageFile: PanomiR_1.15.0.tar.gz PackageFileSize: 1.98 MiB