Package: PWMEnrich Version: 4.45.0 Command: /home/biocbuild/R/R/bin/R CMD INSTALL PWMEnrich StartedAt: 2025-10-23 20:36:32 -0000 (Thu, 23 Oct 2025) EndedAt: 2025-10-23 20:36:50 -0000 (Thu, 23 Oct 2025) EllapsedTime: 17.6 seconds RetCode: 0 Status: OK