Package: PWMEnrich Version: 4.45.0 Command: /home/biocbuild/R/R/bin/R CMD build --keep-empty-dirs --no-resave-data PWMEnrich StartedAt: 2025-10-21 02:13:06 -0000 (Tue, 21 Oct 2025) EndedAt: 2025-10-21 02:14:47 -0000 (Tue, 21 Oct 2025) EllapsedTime: 101.0 seconds RetCode: 0 Status: OK PackageFile: PWMEnrich_4.45.0.tar.gz PackageFileSize: 1.561 MiB