Package: PWMEnrich Version: 4.45.0 Command: /home/biocbuild/bbs-3.22-bioc/R/bin/R CMD check --install=check:PWMEnrich.install-out.txt --library=/home/biocbuild/bbs-3.22-bioc/R/site-library --timings PWMEnrich_4.45.0.tar.gz StartedAt: 2025-10-11 03:23:48 -0400 (Sat, 11 Oct 2025) EndedAt: 2025-10-11 03:26:24 -0400 (Sat, 11 Oct 2025) EllapsedTime: 156.1 seconds RetCode: 0 Status: OK CheckDir: PWMEnrich.Rcheck Warnings: 0