Package: PWMEnrich Version: 4.47.0 Command: /home/biocbuild/bbs-3.23-bioc/R/bin/R CMD build --keep-empty-dirs --no-resave-data PWMEnrich StartedAt: 2025-11-20 19:25:19 -0500 (Thu, 20 Nov 2025) EndedAt: 2025-11-20 19:26:27 -0500 (Thu, 20 Nov 2025) EllapsedTime: 68.1 seconds RetCode: 0 Status: OK PackageFile: PWMEnrich_4.47.0.tar.gz PackageFileSize: 1.571 MiB