Package: PSMatch Version: 1.15.0 Command: /home/biocbuild/bbs-3.23-bioc/R/bin/R CMD INSTALL PSMatch StartedAt: 2025-11-06 15:34:26 -0500 (Thu, 06 Nov 2025) EndedAt: 2025-11-06 15:34:57 -0500 (Thu, 06 Nov 2025) EllapsedTime: 30.5 seconds RetCode: 0 Status: OK