Package: PSMatch Version: 1.15.0 Command: /home/biocbuild/bbs-3.23-bioc/R/bin/R CMD build --keep-empty-dirs --no-resave-data PSMatch StartedAt: 2025-11-05 19:25:39 -0500 (Wed, 05 Nov 2025) EndedAt: 2025-11-05 19:27:25 -0500 (Wed, 05 Nov 2025) EllapsedTime: 106.1 seconds RetCode: 0 Status: OK PackageFile: PSMatch_1.15.0.tar.gz PackageFileSize: 1.738 MiB