Package: PSMatch Version: 1.13.2 Command: /Library/Frameworks/R.framework/Resources/bin/R CMD INSTALL PSMatch StartedAt: 2025-10-10 15:37:55 -0400 (Fri, 10 Oct 2025) EndedAt: 2025-10-10 15:38:36 -0400 (Fri, 10 Oct 2025) EllapsedTime: 41.6 seconds RetCode: 0 Status: OK