Package: PSMatch Version: 1.13.2 Command: /Library/Frameworks/R.framework/Resources/bin/R CMD build --keep-empty-dirs --no-resave-data PSMatch StartedAt: 2025-10-10 18:45:18 -0400 (Fri, 10 Oct 2025) EndedAt: 2025-10-10 18:47:38 -0400 (Fri, 10 Oct 2025) EllapsedTime: 139.8 seconds RetCode: 0 Status: OK PackageFile: PSMatch_1.13.2.tar.gz PackageFileSize: 1.742 MiB