Package: PSMatch Version: 1.13.2 Command: rm -rf PSMatch.buildbin-libdir && mkdir PSMatch.buildbin-libdir && /Users/biocbuild/BBS/utils/build-universal.sh PSMatch_1.13.2.tar.gz /Library/Frameworks/R.framework/Resources/bin/R PSMatch.buildbin-libdir StartedAt: 2025-10-11 02:46:36 -0400 (Sat, 11 Oct 2025) EndedAt: 2025-10-11 02:47:22 -0400 (Sat, 11 Oct 2025) EllapsedTime: 46.3 seconds RetCode: 0 Status: OK PackageFile: PSMatch_1.13.2.tgz PackageFileSize: 2.077 MiB