Package: PSMatch Version: 1.13.2 Maintainer: Laurent Gatto MaintainerEmail: laurent.gatto at uclouvain.be git_url: https://git.bioconductor.org/packages/PSMatch git_branch: devel git_last_commit: 1542556 git_last_commit_date: 2025-08-01 04:29:54 -0400 (Fri, 01 Aug 2025)