Package: PROcess Version: 1.85.0 Command: /home/biocbuild/bbs-3.22-bioc/R/bin/R CMD check --install=check:PROcess.install-out.txt --library=/home/biocbuild/bbs-3.22-bioc/R/site-library --timings PROcess_1.85.0.tar.gz StartedAt: 2025-10-29 02:46:04 -0400 (Wed, 29 Oct 2025) EndedAt: 2025-10-29 02:46:50 -0400 (Wed, 29 Oct 2025) EllapsedTime: 46.1 seconds RetCode: 0 Status: OK CheckDir: PROcess.Rcheck Warnings: 0