Package: PROcess Version: 1.87.0 Command: /home/biocbuild/bbs-3.23-bioc/R/bin/R CMD INSTALL PROcess StartedAt: 2025-10-31 15:22:28 -0400 (Fri, 31 Oct 2025) EndedAt: 2025-10-31 15:22:33 -0400 (Fri, 31 Oct 2025) EllapsedTime: 4.7 seconds RetCode: 0 Status: OK