Package: PROcess Version: 1.85.0 Command: /Library/Frameworks/R.framework/Resources/bin/R CMD INSTALL PROcess StartedAt: 2025-09-29 15:12:57 -0400 (Mon, 29 Sep 2025) EndedAt: 2025-09-29 15:13:07 -0400 (Mon, 29 Sep 2025) EllapsedTime: 9.2 seconds RetCode: 0 Status: OK