Package: PROPS Version: 1.33.0 Command: /home/biocbuild/bbs-3.23-bioc/R/bin/R CMD INSTALL PROPS StartedAt: 2025-11-20 15:29:12 -0500 (Thu, 20 Nov 2025) EndedAt: 2025-11-20 15:29:31 -0500 (Thu, 20 Nov 2025) EllapsedTime: 19.5 seconds RetCode: 0 Status: OK