Package: PROPS Version: 1.31.0 Command: /Library/Frameworks/R.framework/Resources/bin/R CMD INSTALL PROPS StartedAt: 2025-10-03 15:09:59 -0400 (Fri, 03 Oct 2025) EndedAt: 2025-10-03 15:10:06 -0400 (Fri, 03 Oct 2025) EllapsedTime: 7.1 seconds RetCode: 0 Status: OK