Package: PROPS Version: 1.31.0 Command: /Library/Frameworks/R.framework/Resources/bin/R CMD build --keep-empty-dirs --no-resave-data PROPS StartedAt: 2025-10-03 17:23:17 -0400 (Fri, 03 Oct 2025) EndedAt: 2025-10-03 17:24:39 -0400 (Fri, 03 Oct 2025) EllapsedTime: 82.0 seconds RetCode: 0 Status: OK PackageFile: PROPS_1.31.0.tar.gz PackageFileSize: 3.585 MiB