Package: PROPS Version: 1.31.0 Command: rm -rf PROPS.buildbin-libdir && mkdir PROPS.buildbin-libdir && /Users/biocbuild/BBS/utils/build-universal.sh PROPS_1.31.0.tar.gz /Library/Frameworks/R.framework/Resources/bin/R PROPS.buildbin-libdir StartedAt: 2025-10-03 22:50:58 -0400 (Fri, 03 Oct 2025) EndedAt: 2025-10-03 22:51:06 -0400 (Fri, 03 Oct 2025) EllapsedTime: 8.2 seconds RetCode: 0 Status: OK PackageFile: PROPS_1.31.0.tgz PackageFileSize: 3.603 MiB