Package: PROPER Version: 1.43.0 Command: /home/biocbuild/bbs-3.23-bioc/R/bin/R CMD INSTALL PROPER StartedAt: 2025-11-05 15:10:11 -0500 (Wed, 05 Nov 2025) EndedAt: 2025-11-05 15:10:32 -0500 (Wed, 05 Nov 2025) EllapsedTime: 21.2 seconds RetCode: 0 Status: OK