Package: PROPER Version: 1.43.0 Command: /home/biocbuild/bbs-3.23-bioc/R/bin/R CMD build --keep-empty-dirs --no-resave-data PROPER StartedAt: 2025-11-04 19:17:52 -0500 (Tue, 04 Nov 2025) EndedAt: 2025-11-04 19:18:00 -0500 (Tue, 04 Nov 2025) EllapsedTime: 8.0 seconds RetCode: 0 Status: OK PackageFile: PROPER_1.43.0.tar.gz PackageFileSize: 1.8 MiB