Package: PROPER Version: 1.41.0 Command: /Library/Frameworks/R.framework/Resources/bin/R CMD build --keep-empty-dirs --no-resave-data PROPER StartedAt: 2025-10-13 18:51:36 -0400 (Mon, 13 Oct 2025) EndedAt: 2025-10-13 18:52:01 -0400 (Mon, 13 Oct 2025) EllapsedTime: 25.1 seconds RetCode: 0 Status: OK PackageFile: PROPER_1.41.0.tar.gz PackageFileSize: 1.8 MiB