Package: PROPER Version: 1.41.0 Command: rm -rf PROPER.buildbin-libdir && mkdir PROPER.buildbin-libdir && /Users/biocbuild/BBS/utils/build-universal.sh PROPER_1.41.0.tar.gz /Library/Frameworks/R.framework/Resources/bin/R PROPER.buildbin-libdir StartedAt: 2025-10-14 03:01:03 -0400 (Tue, 14 Oct 2025) EndedAt: 2025-10-14 03:01:11 -0400 (Tue, 14 Oct 2025) EllapsedTime: 8.2 seconds RetCode: 0 Status: OK PackageFile: PROPER_1.41.0.tgz PackageFileSize: 1.573 MiB