Package: PRONE Version: 1.5.0 Command: /home/biocbuild/bbs-3.23-bioc/R/bin/R CMD build --keep-empty-dirs --no-resave-data PRONE StartedAt: 2025-11-06 19:17:19 -0500 (Thu, 06 Nov 2025) EndedAt: 2025-11-06 19:19:17 -0500 (Thu, 06 Nov 2025) EllapsedTime: 118.1 seconds RetCode: 0 Status: OK PackageFile: PRONE_1.5.0.tar.gz PackageFileSize: 9.06 MiB