Package: PRONE Version: 1.3.2 Command: /Library/Frameworks/R.framework/Resources/bin/R CMD INSTALL PRONE StartedAt: 2025-10-15 15:32:02 -0400 (Wed, 15 Oct 2025) EndedAt: 2025-10-15 15:32:19 -0400 (Wed, 15 Oct 2025) EllapsedTime: 16.6 seconds RetCode: 0 Status: OK