Package: PRONE Version: 1.3.2 Command: rm -rf PRONE.buildbin-libdir && mkdir PRONE.buildbin-libdir && /Users/biocbuild/BBS/utils/build-universal.sh PRONE_1.3.2.tar.gz /Library/Frameworks/R.framework/Resources/bin/R PRONE.buildbin-libdir StartedAt: 2025-10-15 22:57:34 -0400 (Wed, 15 Oct 2025) EndedAt: 2025-10-15 22:57:54 -0400 (Wed, 15 Oct 2025) EllapsedTime: 19.4 seconds RetCode: 0 Status: OK PackageFile: PRONE_1.3.2.tgz PackageFileSize: 10.43 MiB