Package: PROMISE Version: 1.61.0 Command: /home/biocbuild/R/R/bin/R CMD build --keep-empty-dirs --no-resave-data PROMISE StartedAt: 2025-10-21 02:10:16 -0000 (Tue, 21 Oct 2025) EndedAt: 2025-10-21 02:10:47 -0000 (Tue, 21 Oct 2025) EllapsedTime: 31.0 seconds RetCode: 0 Status: OK PackageFile: PROMISE_1.61.0.tar.gz PackageFileSize: 132.4 KiB