Package: PROMISE Version: 1.61.0 Command: rm -rf PROMISE.buildbin-libdir && mkdir PROMISE.buildbin-libdir && F:\biocbuild\bbs-3.22-bioc\R\bin\R.exe CMD INSTALL --build --library=PROMISE.buildbin-libdir PROMISE_1.61.0.tar.gz StartedAt: 2025-08-15 11:00:18 -0400 (Fri, 15 Aug 2025) EndedAt: 2025-08-15 11:00:40 -0400 (Fri, 15 Aug 2025) EllapsedTime: 21.4 seconds RetCode: 0 Status: OK PackageFile: PROMISE_1.61.0.zip PackageFileSize: 182.1 KiB