Package: PROMISE Version: 1.63.0 Command: /home/biocbuild/bbs-3.23-bioc/R/bin/R CMD INSTALL PROMISE StartedAt: 2025-11-20 15:29:27 -0500 (Thu, 20 Nov 2025) EndedAt: 2025-11-20 15:29:40 -0500 (Thu, 20 Nov 2025) EllapsedTime: 13.7 seconds RetCode: 0 Status: OK