Package: PROMISE Version: 1.63.0 Command: /home/biocbuild/bbs-3.23-bioc/R/bin/R CMD check --install=check:PROMISE.install-out.txt --library=/home/biocbuild/bbs-3.23-bioc/R/site-library --timings PROMISE_1.63.0.tar.gz StartedAt: 2025-11-22 02:50:04 -0500 (Sat, 22 Nov 2025) EndedAt: 2025-11-22 02:51:58 -0500 (Sat, 22 Nov 2025) EllapsedTime: 114.1 seconds RetCode: 0 Status: OK CheckDir: PROMISE.Rcheck Warnings: 0