Package: PREDA Version: 1.55.0 Command: /home/biocbuild/bbs-3.22-bioc/R/bin/R CMD check --install=check:PREDA.install-out.txt --library=/home/biocbuild/bbs-3.22-bioc/R/site-library --timings PREDA_1.55.0.tar.gz StartedAt: 2025-10-23 03:23:28 -0400 (Thu, 23 Oct 2025) EndedAt: 2025-10-23 03:26:42 -0400 (Thu, 23 Oct 2025) EllapsedTime: 194.1 seconds RetCode: 0 Status: WARNINGS CheckDir: PREDA.Rcheck Warnings: 1