Package: PREDA Version: 1.57.0 Command: /home/biocbuild/bbs-3.23-bioc/R/bin/R CMD INSTALL PREDA StartedAt: 2025-11-02 15:34:35 -0500 (Sun, 02 Nov 2025) EndedAt: 2025-11-02 15:34:54 -0500 (Sun, 02 Nov 2025) EllapsedTime: 19.3 seconds RetCode: 0 Status: OK