Package: PREDA Version: 1.57.0 Command: /home/biocbuild/bbs-3.23-bioc/R/bin/R CMD build --keep-empty-dirs --no-resave-data PREDA StartedAt: 2025-11-02 19:16:03 -0500 (Sun, 02 Nov 2025) EndedAt: 2025-11-02 19:17:51 -0500 (Sun, 02 Nov 2025) EllapsedTime: 108.1 seconds RetCode: 0 Status: OK PackageFile: PREDA_1.57.0.tar.gz PackageFileSize: 2.004 MiB