Package: PREDA Version: 1.57.0 Command: /Library/Frameworks/R.framework/Resources/bin/R CMD INSTALL PREDA StartedAt: 2025-11-20 15:09:27 -0500 (Thu, 20 Nov 2025) EndedAt: 2025-11-20 15:09:35 -0500 (Thu, 20 Nov 2025) EllapsedTime: 7.9 seconds RetCode: 0 Status: OK