Package: PREDA Version: 1.57.0 Command: /Library/Frameworks/R.framework/Resources/bin/R CMD build --keep-empty-dirs --no-resave-data PREDA StartedAt: 2025-11-20 17:20:03 -0500 (Thu, 20 Nov 2025) EndedAt: 2025-11-20 17:20:51 -0500 (Thu, 20 Nov 2025) EllapsedTime: 48.5 seconds RetCode: 0 Status: OK PackageFile: PREDA_1.57.0.tar.gz PackageFileSize: 2.005 MiB