Package: PREDA Version: 1.57.0 Command: rm -rf PREDA.buildbin-libdir && mkdir PREDA.buildbin-libdir && /Users/biocbuild/BBS/utils/build-universal.sh PREDA_1.57.0.tar.gz /Library/Frameworks/R.framework/Resources/bin/R PREDA.buildbin-libdir StartedAt: 2025-11-20 23:46:33 -0500 (Thu, 20 Nov 2025) EndedAt: 2025-11-20 23:46:43 -0500 (Thu, 20 Nov 2025) EllapsedTime: 10.2 seconds RetCode: 0 Status: OK PackageFile: PREDA_1.57.0.tgz PackageFileSize: 2.001 MiB