Package: PPInfer Version: 1.37.0 Command: /home/biocbuild/bbs-3.23-bioc/R/bin/R CMD INSTALL PPInfer StartedAt: 2025-11-20 15:31:29 -0500 (Thu, 20 Nov 2025) EndedAt: 2025-11-20 15:31:52 -0500 (Thu, 20 Nov 2025) EllapsedTime: 23.5 seconds RetCode: 0 Status: OK