Package: PPInfer Version: 1.37.0 Command: /home/biocbuild/bbs-3.23-bioc/R/bin/R CMD build --keep-empty-dirs --no-resave-data PPInfer StartedAt: 2025-11-20 19:20:29 -0500 (Thu, 20 Nov 2025) EndedAt: 2025-11-20 19:21:22 -0500 (Thu, 20 Nov 2025) EllapsedTime: 53.1 seconds RetCode: 0 Status: OK PackageFile: PPInfer_1.37.0.tar.gz PackageFileSize: 325.6 KiB