Package: PPInfer Version: 1.35.0 Command: /Library/Frameworks/R.framework/Resources/bin/R CMD INSTALL PPInfer StartedAt: 2025-10-10 15:33:40 -0400 (Fri, 10 Oct 2025) EndedAt: 2025-10-10 15:34:11 -0400 (Fri, 10 Oct 2025) EllapsedTime: 31.8 seconds RetCode: 0 Status: OK