Package: PPInfer Version: 1.35.0 Command: /Library/Frameworks/R.framework/Resources/bin/R CMD build --keep-empty-dirs --no-resave-data PPInfer StartedAt: 2025-10-10 18:42:43 -0400 (Fri, 10 Oct 2025) EndedAt: 2025-10-10 18:45:32 -0400 (Fri, 10 Oct 2025) EllapsedTime: 168.4 seconds RetCode: 0 Status: OK PackageFile: PPInfer_1.35.0.tar.gz PackageFileSize: 324.5 KiB