Package: POWSC Version: 1.17.1 Command: /home/biocbuild/R/R/bin/R CMD INSTALL POWSC StartedAt: 2025-10-23 20:41:18 -0000 (Thu, 23 Oct 2025) EndedAt: 2025-10-23 20:41:55 -0000 (Thu, 23 Oct 2025) EllapsedTime: 37.7 seconds RetCode: 0 Status: OK