Package: POWSC Version: 1.17.1 Command: /home/biocbuild/R/R/bin/R CMD build --keep-empty-dirs --no-resave-data POWSC StartedAt: 2025-10-21 02:07:37 -0000 (Tue, 21 Oct 2025) EndedAt: 2025-10-21 02:09:28 -0000 (Tue, 21 Oct 2025) EllapsedTime: 111.0 seconds RetCode: 0 Status: OK PackageFile: POWSC_1.17.1.tar.gz PackageFileSize: 1.171 MiB