Package: POWSC Version: 1.17.1 Command: /home/biocbuild/bbs-3.22-bioc/R/bin/R CMD check --install=check:POWSC.install-out.txt --library=/home/biocbuild/bbs-3.22-bioc/R/site-library --timings POWSC_1.17.1.tar.gz StartedAt: 2025-10-25 02:52:40 -0400 (Sat, 25 Oct 2025) EndedAt: 2025-10-25 02:57:52 -0400 (Sat, 25 Oct 2025) EllapsedTime: 311.3 seconds RetCode: 0 Status: OK CheckDir: POWSC.Rcheck Warnings: 0